BEGIN:VCALENDAR
VERSION:2.0
PRODID:-//ChamberMaster//Event Calendar 2.0//EN
METHOD:PUBLISH
X-PUBLISHED-TTL:P3D
REFRESH-INTERVAL:P3D
CALSCALE:GREGORIAN
BEGIN:VEVENT
DTSTART:20121115T230000Z
DTEND:20121116T000000Z
X-MICROSOFT-CDO-ALLDAYEVENT:FALSE
SUMMARY:Ribbon Cutting
DESCRIPTION:Ribbon Cutting\n\n	All Star Lanes\n\n	Tuesday November 15th\, 2012 \n\n	@ 4pm\n\n	1111 North 200 West\, Tooele\, Utah 84074\n\n	Click here to edit...
X-ALT-DESC;FMTTYPE=text/html:<div style="color: gray">\n	&nbsp\;<span style="font-size: 16px"><span style="color: #0000cd"><strong><u><span style="font-family: arial\,sans-serif">Ribbon Cutting</span></u></strong></span><br />\n	<span style="color: #000000"><strong><span style="font-family: arial\,sans-serif">All Star Lanes</span></strong><br />\n	<strong><span style="font-family: arial\,sans-serif">Tuesday November 15<sup>th\,</sup> 2012 </span></strong><br />\n	<strong><span style="font-family: arial\,sans-serif">@ 4pm</span></strong><br />\n	<strong><span style="font-family: arial\,sans-serif">1111 North 200 West\, Tooele\, Utah 84074</span></strong></span></span><br />\n	<span style="color: #000000">Click here to edit...</span></div>\n
LOCATION:
UID:e.125.4940
SEQUENCE:3
DTSTAMP:20260421T050857Z
URL:https://members.tooelechamber.com/events/details/ribbon-cutting-11-15-2012-4940
END:VEVENT

END:VCALENDAR
