BEGIN:VCALENDAR
VERSION:2.0
PRODID:-//ChamberMaster//Event Calendar 2.0//EN
METHOD:PUBLISH
X-PUBLISHED-TTL:P3D
REFRESH-INTERVAL:P3D
CALSCALE:GREGORIAN
BEGIN:VEVENT
DTSTART:20081117T190000Z
DTEND:20081117T190000Z
X-MICROSOFT-CDO-ALLDAYEVENT:FALSE
SUMMARY:Ribbon Cutting
DESCRIPTION:Monday\, Nov. 17th @ Noon\n Allen's Floor Covering\n & Servicemaster\n 24 North Main\, Tooele
X-ALT-DESC;FMTTYPE=text/html:<p align="center"><font color="#000000" size="4">&nbsp\;</font><a href="http://2wheelah.com/index.html" name="top"><font color="#000000" size="4">Monday\, Nov. 17th @ Noon<br />&nbsp\;Allen's Floor Covering<br />&nbsp\;&amp\; Servicemaster<br />&nbsp\;24 North Main\, Tooele</font></a></p>
LOCATION:
UID:e.125.485
SEQUENCE:3
DTSTAMP:20260424T084021Z
URL:https://members.tooelechamber.com/events/details/ribbon-cutting-11-17-2008-485
END:VEVENT

END:VCALENDAR
