BEGIN:VCALENDAR
VERSION:2.0
PRODID:-//ChamberMaster//Event Calendar 2.0//EN
METHOD:PUBLISH
X-PUBLISHED-TTL:P3D
REFRESH-INTERVAL:P3D
CALSCALE:GREGORIAN
BEGIN:VEVENT
DTSTART:20091210T190000Z
DTEND:20091210T190000Z
X-MICROSOFT-CDO-ALLDAYEVENT:FALSE
SUMMARY:Ribbon Cutting
DESCRIPTION:Ribbon CuttingTriple T278 N. Main St.\, TooeleThursday\, December 10thTime: NoonCome on out and support our Chamber member
X-ALT-DESC;FMTTYPE=text/html:<div><div style="text-align: center"><span style="font-size: medium"><u><strong>Ribbon Cutting</strong></u></span></div><div style="text-align: center"><span style="font-size: medium"><span style="color: #ff0000">Triple T</span></span></div><div style="text-align: center"><span style="font-size: medium">278 N. Main St.\, Tooele</span></div><div style="text-align: center"><span style="font-size: medium">Thursday\, December 10th</span></div><div style="text-align: center"><span style="font-size: medium">Time: Noon</span></div><div style="text-align: center"><span style="font-size: medium">Come on out and support </span></div><div style="text-align: center"><span style="font-size: medium">our Chamber member</span></div></div>
LOCATION:
UID:e.125.2585
SEQUENCE:3
DTSTAMP:20260423T124109Z
URL:https://members.tooelechamber.com/events/details/ribbon-cutting-12-10-2009-2585
END:VEVENT

END:VCALENDAR
