BEGIN:VCALENDAR
VERSION:2.0
PRODID:-//ChamberMaster//Event Calendar 2.0//EN
METHOD:PUBLISH
X-PUBLISHED-TTL:P3D
REFRESH-INTERVAL:P3D
CALSCALE:GREGORIAN
BEGIN:VEVENT
DTSTART:20111214T190000Z
DTEND:20111214T193000Z
X-MICROSOFT-CDO-ALLDAYEVENT:FALSE
SUMMARY:Ribbon Cutting
DESCRIPTION:Ribbon Cutting \n\n	\n\n	Wed. December 14th 2011 @ 12pm\n\n	Chamber Building\n\n	154 South Main Tooele
X-ALT-DESC;FMTTYPE=text/html:<p style="text-align: center">\n	<span style="font-size: 20px"><strong><u>Ribbon Cutting </u><br />\n	<br />\n	Wed. December 14th 2011 @ 12pm<br />\n	Chamber Building<br />\n	154 South Main Tooele</strong></span></p>\n<p>\n	&nbsp\;</p>
LOCATION:
UID:e.125.3945
SEQUENCE:3
DTSTAMP:20260421T220234Z
URL:https://members.tooelechamber.com/events/details/ribbon-cutting-12-14-2011-3945
END:VEVENT

END:VCALENDAR
