BEGIN:VCALENDAR
VERSION:2.0
PRODID:-//ChamberMaster//Event Calendar 2.0//EN
METHOD:PUBLISH
X-PUBLISHED-TTL:P3D
REFRESH-INTERVAL:P3D
CALSCALE:GREGORIAN
BEGIN:VEVENT
DTSTART:20070511T190000Z
DTEND:20070511T190000Z
X-MICROSOFT-CDO-ALLDAYEVENT:FALSE
SUMMARY:Ribbon Cutting All Pro Realty Group
DESCRIPTION:Come join us for a ribbon cutting to celebrate the new membership of All Pro Realty Group\,  506 North Main\, Tooele.     1:00 pm   Friday\, May 11th
X-ALT-DESC;FMTTYPE=text/html:Come join us for a ribbon cutting to celebrate the new membership of All Pro Realty Group\,&nbsp\; 506 North Main\, Tooele.&nbsp\;&nbsp\;&nbsp\;&nbsp\; 1:00 pm&nbsp\;&nbsp\; Friday\, May 11th
LOCATION:506 North Main\, Tooele
UID:e.125.103
SEQUENCE:3
DTSTAMP:20260425T125240Z
URL:https://members.tooelechamber.com/events/details/ribbon-cutting-all-pro-realty-group-05-11-2007-103
END:VEVENT

END:VCALENDAR
