BEGIN:VCALENDAR
VERSION:2.0
PRODID:-//ChamberMaster//Event Calendar 2.0//EN
METHOD:PUBLISH
X-PUBLISHED-TTL:P3D
REFRESH-INTERVAL:P3D
CALSCALE:GREGORIAN
BEGIN:VEVENT
DTSTART:20070103T070000Z
DTEND:20070103T070000Z
X-MICROSOFT-CDO-ALLDAYEVENT:FALSE
SUMMARY:Ribbon Cutting Allstate Insurance- Mike Nunley
DESCRIPTION:Come help us celebrate the grand opening of Allstate Insurance Agency\, Mike Nunley\, agent.  Ribbon cutting will be held on Wednesday\, January 3rd at 12:00 noon.
X-ALT-DESC;FMTTYPE=text/html:Come help us celebrate the grand opening of Allstate Insurance Agency\, Mike Nunley\, agent.  Ribbon cutting will be held on Wednesday\, January 3rd at 12:00 noon.
LOCATION:220 Millpond #108\, Stansbury Park
UID:e.125.27
SEQUENCE:3
DTSTAMP:20260425T182146Z
URL:https://members.tooelechamber.com/events/details/ribbon-cutting-allstate-insurance-mike-nunley-01-03-2007-27
END:VEVENT

END:VCALENDAR
