BEGIN:VCALENDAR
VERSION:2.0
PRODID:-//ChamberMaster//Event Calendar 2.0//EN
METHOD:PUBLISH
X-PUBLISHED-TTL:P3D
REFRESH-INTERVAL:P3D
CALSCALE:GREGORIAN
BEGIN:VEVENT
DTSTART:20071104T000000Z
DTEND:20071104T000000Z
X-MICROSOFT-CDO-ALLDAYEVENT:FALSE
SUMMARY:Ribbon Cutting\, Alpine Academy
DESCRIPTION:Ribbon Cutting\, Alpine Academy
X-ALT-DESC;FMTTYPE=text/html:<div>Ribbon Cutting\, Alpine Academy</div>
LOCATION:4076 Droubay RoadErda\, UT
UID:e.125.154
SEQUENCE:3
DTSTAMP:20260425T040223Z
URL:https://members.tooelechamber.com/events/details/ribbon-cutting-alpine-academy-11-03-2007-154
END:VEVENT

END:VCALENDAR
