BEGIN:VCALENDAR
VERSION:2.0
PRODID:-//ChamberMaster//Event Calendar 2.0//EN
METHOD:PUBLISH
X-PUBLISHED-TTL:P3D
REFRESH-INTERVAL:P3D
CALSCALE:GREGORIAN
BEGIN:VEVENT
DTSTART:20140721T140000Z
DTEND:20140721T150000Z
X-MICROSOFT-CDO-ALLDAYEVENT:FALSE
SUMMARY:Ribbon Cutting: America First Credit Union
DESCRIPTION:
X-ALT-DESC;FMTTYPE=text/html:
LOCATION:Inside Macey's 972 North Main Street Tooele\, UT 84074
UID:e.125.5342
SEQUENCE:3
DTSTAMP:20260419T142920Z
URL:https://members.tooelechamber.com/events/details/ribbon-cutting-america-first-credit-union-07-21-2014-5342
END:VEVENT

END:VCALENDAR
