BEGIN:VCALENDAR
VERSION:2.0
PRODID:-//ChamberMaster//Event Calendar 2.0//EN
METHOD:PUBLISH
X-PUBLISHED-TTL:P3D
REFRESH-INTERVAL:P3D
CALSCALE:GREGORIAN
BEGIN:VEVENT
DTSTART:20070323T060000Z
DTEND:20070323T060000Z
X-MICROSOFT-CDO-ALLDAYEVENT:FALSE
SUMMARY:Ribbon Cutting- Beehive Homes
DESCRIPTION:Come join us in celebrating the new membership of Beehive Homes!  Ribbon cutting will be held on Friday\, March 23rd at 12:00 noon.   Beehive Homes is located at 454 South Main\, Tooele.
X-ALT-DESC;FMTTYPE=text/html:Come join us in celebrating the new membership of Beehive Homes!  Ribbon cutting will be held on Friday\, March 23rd at 12:00 noon.   Beehive Homes is located at 454 South Main\, Tooele.   
LOCATION:454 South Main\, Tooele
UID:e.125.55
SEQUENCE:3
DTSTAMP:20260425T155251Z
URL:https://members.tooelechamber.com/events/details/ribbon-cutting-beehive-homes-03-23-2007-55
END:VEVENT

END:VCALENDAR
