BEGIN:VCALENDAR
VERSION:2.0
PRODID:-//ChamberMaster//Event Calendar 2.0//EN
METHOD:PUBLISH
X-PUBLISHED-TTL:P3D
REFRESH-INTERVAL:P3D
CALSCALE:GREGORIAN
BEGIN:VEVENT
DTSTART:20071210T220000Z
DTEND:20071210T220000Z
X-MICROSOFT-CDO-ALLDAYEVENT:FALSE
SUMMARY:Ribbon Cutting\, Bella Nails
DESCRIPTION:RIBBON CUTTINGBELLA NAILS
X-ALT-DESC;FMTTYPE=text/html:<div>RIBBON CUTTING</div><div>BELLA NAILS</div>
LOCATION:500 E. Village Blvd. #105Stansbury Park\, UT 84074
UID:e.125.186
SEQUENCE:3
DTSTAMP:20260425T022559Z
URL:https://members.tooelechamber.com/events/details/ribbon-cutting-bella-nails-12-10-2007-186
END:VEVENT

END:VCALENDAR
