BEGIN:VCALENDAR
VERSION:2.0
PRODID:-//ChamberMaster//Event Calendar 2.0//EN
METHOD:PUBLISH
X-PUBLISHED-TTL:P3D
REFRESH-INTERVAL:P3D
CALSCALE:GREGORIAN
BEGIN:VEVENT
DTSTART;VALUE=DATE:20090321
DTEND;VALUE=DATE:20090322
TRANSP:TRANSPARENT
X-MICROSOFT-CDO-ALLDAYEVENT:TRUE
SUMMARY:Ribbon Cutting- Black Rock Nursery
DESCRIPTION:Saturday\, March 21st10 a.m Black Rock NurseryCanyon Road HWY 36\, LakepointCome on out and support our newest Chamber Memberon their Grand Opening
X-ALT-DESC;FMTTYPE=text/html:<div align="center"><font size="4">Saturday\, March 21st</font></div><div align="center"><font size="4">10 a.m </font></div><div align="center"><font size="4">Black Rock Nursery</font></div><div align="center"><font size="4">Canyon Road HWY 36\, Lakepoint</font></div><div align="center"><font size="4">Come on out and support our newest Chamber Member</font></div><div align="center"><font size="4">on their Grand Opening</font></div>
LOCATION:
UID:e.125.562
SEQUENCE:3
DTSTAMP:20260424T041333Z
URL:https://members.tooelechamber.com/events/details/ribbon-cutting-black-rock-nursery-03-21-2009-562
END:VEVENT

END:VCALENDAR
