BEGIN:VCALENDAR
VERSION:2.0
PRODID:-//ChamberMaster//Event Calendar 2.0//EN
METHOD:PUBLISH
X-PUBLISHED-TTL:P3D
REFRESH-INTERVAL:P3D
CALSCALE:GREGORIAN
BEGIN:VEVENT
DTSTART:20130712T160000Z
DTEND:20130712T210000Z
X-MICROSOFT-CDO-ALLDAYEVENT:FALSE
SUMMARY:Ribbon Cutting- Central Collison Center
DESCRIPTION:Ribbon Cutting & Grand Opening\n\nFriday\, July 12th 2013\n\nCentral Collision Center\n\n1248 North 80 East Tooele Utah 84074   \n\nPlease join us for Food\, Fun and Prizes
X-ALT-DESC;FMTTYPE=text/html:<span style="font-size: 20px"><u><strong>Ribbon Cutting &amp\; Grand Opening</strong></u><br />\nFriday\, July 12th 2013<br />\n<span style="color: #ff0000">Central Collision Center</span><br />\n1248 North 80 East Tooele Utah 84074&nbsp\;&nbsp\;&nbsp\;<br />\nPlease join us for Food\, Fun and Prizes</span>
LOCATION:
UID:e.125.5033
SEQUENCE:3
DTSTAMP:20260420T144936Z
URL:https://members.tooelechamber.com/events/details/ribbon-cutting-central-collison-center-07-12-2013-5033
END:VEVENT

END:VCALENDAR
