BEGIN:VCALENDAR
VERSION:2.0
PRODID:-//ChamberMaster//Event Calendar 2.0//EN
METHOD:PUBLISH
X-PUBLISHED-TTL:P3D
REFRESH-INTERVAL:P3D
CALSCALE:GREGORIAN
BEGIN:VEVENT
DTSTART:20070325T004500Z
DTEND:20070325T010000Z
X-MICROSOFT-CDO-ALLDAYEVENT:FALSE
SUMMARY:Ribbon Cutting Common Cents Casino Parties
DESCRIPTION:Come join us for a unique ribbon cutting event on Saturday\, March 24th at 6:45 pm.    Common Cents Casino Parties will be holding a fundraising event for the Leukemia & Lympomia Society's Team in Training.   Before the event\, the Chamber of Commerce will hold a ribbon cutting ceremony\, at the St. Marguerities Church\, Tooele.   You are invited to attend the Casino-Dinner party fundraiser to see what the Common Cents Casino Parties are all about.  For more information on the fundraiser\, contact Shelly Walker at 435-849-2530.   Hope to see you there!
X-ALT-DESC;FMTTYPE=text/html:Come join us for a unique ribbon cutting event on Saturday\, March 24th at 6:45 pm.&nbsp\;&nbsp\;&nbsp\; Common Cents Casino Parties will be holding a fundraising event for the Leukemia &amp\; Lympomia Society's Team in Training.&nbsp\;&nbsp\; Before the event\, the Chamber of Commerce will hold a ribbon cutting ceremony\, at the St. Marguerities Church\, Tooele. &nbsp\; You are invited to attend the Casino-Dinner party fundraiser to see what the Common Cents Casino Parties are all about.&nbsp\; For more information on the fundraiser\, contact Shelly Walker at 435-849-2530.&nbsp\;&nbsp\; Hope to see you there!
LOCATION:St. Marguerites Church\, 510 East Vine Street\, Tooele
UID:e.125.62
SEQUENCE:3
DTSTAMP:20260425T155442Z
URL:https://members.tooelechamber.com/events/details/ribbon-cutting-common-cents-casino-parties-03-24-2007-62
END:VEVENT

END:VCALENDAR
