BEGIN:VCALENDAR
VERSION:2.0
PRODID:-//ChamberMaster//Event Calendar 2.0//EN
METHOD:PUBLISH
X-PUBLISHED-TTL:P3D
REFRESH-INTERVAL:P3D
CALSCALE:GREGORIAN
BEGIN:VEVENT
DTSTART:20120215T190000Z
DTEND:20120215T200000Z
X-MICROSOFT-CDO-ALLDAYEVENT:FALSE
SUMMARY:Ribbon Cutting-Cottage Glen
DESCRIPTION:Ribbon Cutting- Cottage Glen\n\n12- 1 p.m.\n\n1892 Aaron Drive\n\nTooele\, Ut 84074
X-ALT-DESC;FMTTYPE=text/html:<strong><span style="font-size: 20px">Ribbon Cutting- Cottage Glen<br />\n12- 1 p.m.<br />\n1892 Aaron Drive<br />\nTooele\, Ut 84074</span></strong>
LOCATION:
UID:e.125.4789
SEQUENCE:3
DTSTAMP:20260421T203308Z
URL:https://members.tooelechamber.com/events/details/ribbon-cutting-cottage-glen-02-15-2012-4789
END:VEVENT

END:VCALENDAR
