BEGIN:VCALENDAR
VERSION:2.0
PRODID:-//ChamberMaster//Event Calendar 2.0//EN
METHOD:PUBLISH
X-PUBLISHED-TTL:P3D
REFRESH-INTERVAL:P3D
CALSCALE:GREGORIAN
BEGIN:VEVENT
DTSTART:20070504T180000Z
DTEND:20070504T181500Z
X-MICROSOFT-CDO-ALLDAYEVENT:FALSE
SUMMARY:Ribbon Cutting- Delicious
DESCRIPTION:Help us celebrate with new Chamber member\, Delicious. We will hold a ribbon cutting on Friday\, May 4th at 12:00 noon.  Delicious is located at 295 North Main\, Tooele.
X-ALT-DESC;FMTTYPE=text/html:Help us celebrate with new Chamber member\, Delicious. We will hold a ribbon cutting on Friday\, May 4th at 12:00 noon.&nbsp\; Delicious is located at 295 North Main\, Tooele.
LOCATION:295 North Main\, Tooele
UID:e.125.84
SEQUENCE:3
DTSTAMP:20260425T125240Z
URL:https://members.tooelechamber.com/events/details/ribbon-cutting-delicious-05-04-2007-84
END:VEVENT

END:VCALENDAR
