BEGIN:VCALENDAR
VERSION:2.0
PRODID:-//ChamberMaster//Event Calendar 2.0//EN
METHOD:PUBLISH
X-PUBLISHED-TTL:P3D
REFRESH-INTERVAL:P3D
CALSCALE:GREGORIAN
BEGIN:VEVENT
DTSTART:20080522T230000Z
DTEND:20080522T230000Z
X-MICROSOFT-CDO-ALLDAYEVENT:FALSE
SUMMARY:Ribbon Cutting\, Greg Haroutunian\, MD
DESCRIPTION:Ribbon CuttingGreg Haroutunian\, MD
X-ALT-DESC;FMTTYPE=text/html:<div>Ribbon Cutting</div><div>Greg Haroutunian\, MD</div>
LOCATION:196 E. 2000 N. Ste 110Tooele\, Ut 84074
UID:e.125.432
SEQUENCE:3
DTSTAMP:20260424T201836Z
URL:https://members.tooelechamber.com/events/details/ribbon-cutting-greg-haroutunian-md-05-22-2008-432
END:VEVENT

END:VCALENDAR
