BEGIN:VCALENDAR
VERSION:2.0
PRODID:-//ChamberMaster//Event Calendar 2.0//EN
METHOD:PUBLISH
X-PUBLISHED-TTL:P3D
REFRESH-INTERVAL:P3D
CALSCALE:GREGORIAN
BEGIN:VEVENT
DTSTART:20070307T070000Z
DTEND:20070307T070000Z
X-MICROSOFT-CDO-ALLDAYEVENT:FALSE
SUMMARY:Ribbon Cutting Griffeth Vision Group Grantsville
DESCRIPTION:Help us celebrate with Griffeth Vision Group and their new Grantsville office.  We will hold a ribbon cutting on Wednesday\, March 7th at 2:00pm at the new office located at 822 East Main\, Ste 16\, Grantsville
X-ALT-DESC;FMTTYPE=text/html:Help us celebrate with Griffeth Vision Group and their new Grantsville office.  We will hold a ribbon cutting on Wednesday\, March 7th at 2:00pm at the new office located at 822 East Main\, Ste 16\, Grantsville
LOCATION:822 E Main\, Ste 16 Grantsville
UID:e.125.44
SEQUENCE:3
DTSTAMP:20260425T155401Z
URL:https://members.tooelechamber.com/events/details/ribbon-cutting-griffeth-vision-group-grantsville-03-07-2007-44
END:VEVENT

END:VCALENDAR
