BEGIN:VCALENDAR
VERSION:2.0
PRODID:-//ChamberMaster//Event Calendar 2.0//EN
METHOD:PUBLISH
X-PUBLISHED-TTL:P3D
REFRESH-INTERVAL:P3D
CALSCALE:GREGORIAN
BEGIN:VEVENT
DTSTART:20080110T221500Z
DTEND:20080110T221500Z
X-MICROSOFT-CDO-ALLDAYEVENT:FALSE
SUMMARY:Ribbon Cutting H&R Block
DESCRIPTION:Join us in celebrating the remodel of the H&R Block location in Grantsville.
X-ALT-DESC;FMTTYPE=text/html:<div>Join us in celebrating the remodel of the H&amp\;R Block location in Grantsville.</div>
LOCATION:120 West MainGrantsville\, UT
UID:e.125.189
SEQUENCE:3
DTSTAMP:20260425T005215Z
URL:https://members.tooelechamber.com/events/details/ribbon-cutting-h-r-block-01-10-2008-189
END:VEVENT

END:VCALENDAR
