BEGIN:VCALENDAR
VERSION:2.0
PRODID:-//ChamberMaster//Event Calendar 2.0//EN
METHOD:PUBLISH
X-PUBLISHED-TTL:P3D
REFRESH-INTERVAL:P3D
CALSCALE:GREGORIAN
BEGIN:VEVENT
DTSTART:20070413T060000Z
DTEND:20070413T060000Z
X-MICROSOFT-CDO-ALLDAYEVENT:FALSE
SUMMARY:Ribbon Cutting- HBW Insurance & Financial Services Inc
DESCRIPTION:Come help us celebrate the grand opening of HBW Insurance & Financial Services Inc!  The Chamber will conduct a Ribbon Cutting on Friday\, April 13th at 12:00 noon at the Chamber Office\, 201 North Main (Key Bank\, upstairs) . Hope to see you there!
X-ALT-DESC;FMTTYPE=text/html:Come help us celebrate the grand opening of HBW Insurance &amp\; Financial Services Inc!&nbsp\; The Chamber will conduct a Ribbon Cutting on Friday\, April 13th&nbsp\;at 12:00 noon at the Chamber Office\, 201 North Main (Key Bank\,&nbsp\;upstairs)&nbsp\;. Hope to see you there!
LOCATION:Chamber Office\, 201 North Main\, Tooele
UID:e.125.71
SEQUENCE:3
DTSTAMP:20260425T142057Z
URL:https://members.tooelechamber.com/events/details/ribbon-cutting-hbw-insurance-financial-services-inc-04-13-2007-71
END:VEVENT

END:VCALENDAR
