BEGIN:VCALENDAR
VERSION:2.0
PRODID:-//ChamberMaster//Event Calendar 2.0//EN
METHOD:PUBLISH
X-PUBLISHED-TTL:P3D
REFRESH-INTERVAL:P3D
CALSCALE:GREGORIAN
BEGIN:VEVENT
DTSTART:20070512T144000Z
DTEND:20070512T144000Z
X-MICROSOFT-CDO-ALLDAYEVENT:FALSE
SUMMARY:Ribbon Cutting Head Quarters Salon
DESCRIPTION:Come join us for a ribbon cutting to celebrate the new membership and Grand Opening of Head Quarters Salon\, 500 East Village Blvd.\, Stansbury Park on Saturday\, May 12th at 8:45 am. \nDonuts and drink provided. Special: 50% off  Hair Cuts.
X-ALT-DESC;FMTTYPE=text/html:Come join us for a ribbon cutting to celebrate the new membership and Grand Opening of Head Quarters Salon\, 500 East Village Blvd.\, Stansbury Park on Saturday\, May 12th at 8:45 am.&nbsp\;<br />Donuts and drink provided. Special: 50% off&nbsp\; Hair Cuts.
LOCATION:500 North Village Blvd\, Stansbury Park
UID:e.125.104
SEQUENCE:3
DTSTAMP:20260425T125438Z
URL:https://members.tooelechamber.com/events/details/ribbon-cutting-head-quarters-salon-05-12-2007-104
END:VEVENT

END:VCALENDAR
