BEGIN:VCALENDAR
VERSION:2.0
PRODID:-//ChamberMaster//Event Calendar 2.0//EN
METHOD:PUBLISH
X-PUBLISHED-TTL:P3D
REFRESH-INTERVAL:P3D
CALSCALE:GREGORIAN
BEGIN:VEVENT
DTSTART:20081103T210000Z
DTEND:20081103T210000Z
X-MICROSOFT-CDO-ALLDAYEVENT:FALSE
SUMMARY:Ribbon Cutting in conjunction with Food Drive
DESCRIPTION:Anytime Fitness (Grantsville)225 E. Main Ste I\, GrantsvilleTime: 2 pmRibbon Cutting will be heldIn conjunction with a Food Drive Food to be donated to the Local Food BankPlease bring a nonperishable Food item
X-ALT-DESC;FMTTYPE=text/html:<div align="center"><font size="4">Anytime Fitness (Grantsville)</font></div><div align="center"><font size="4">225 E. Main Ste I\, Grantsville</font></div><div align="center"><font size="4">Time: 2 pm</font></div><div align="center"><font size="4">Ribbon Cutting will be held</font></div><div align="center"><font size="4">In conjunction with a Food Drive </font></div><div align="center"><font size="4">Food to be&nbsp\;donated to the Local Food Bank</font></div><div align="center"><font color="#ff0000" size="4">Please bring a nonperishable Food item</font></div><div>&nbsp\;</div>
LOCATION:
UID:e.125.481
SEQUENCE:3
DTSTAMP:20260424T094001Z
URL:https://members.tooelechamber.com/events/details/ribbon-cutting-in-conjunction-with-food-drive-11-03-2008-481
END:VEVENT

END:VCALENDAR
