BEGIN:VCALENDAR
VERSION:2.0
PRODID:-//ChamberMaster//Event Calendar 2.0//EN
METHOD:PUBLISH
X-PUBLISHED-TTL:P3D
REFRESH-INTERVAL:P3D
CALSCALE:GREGORIAN
BEGIN:VEVENT
DTSTART:20130326T180000Z
DTEND:20130326T190000Z
X-MICROSOFT-CDO-ALLDAYEVENT:FALSE
SUMMARY:Ribbon Cutting-Ivesters Tree & Lawn @ Chamber
DESCRIPTION:Ribbon Cutting-Ivester's Tree & Lawn LLC @ Chamber
X-ALT-DESC;FMTTYPE=text/html:<div style="color: gray">\n	<span style="color: #b22222"><span style="font-size: 20px">Ribbon Cutting-Ivester&#39\;s Tree &amp\; Lawn LLC @ Chamber</span></span><br />\n	&nbsp\;</div>\n
LOCATION:
UID:e.125.4999
SEQUENCE:3
DTSTAMP:20260420T202215Z
URL:https://members.tooelechamber.com/events/details/ribbon-cutting-ivesters-tree-lawn-chamber-03-26-2013-4999
END:VEVENT

END:VCALENDAR
