BEGIN:VCALENDAR
VERSION:2.0
PRODID:-//ChamberMaster//Event Calendar 2.0//EN
METHOD:PUBLISH
X-PUBLISHED-TTL:P3D
REFRESH-INTERVAL:P3D
CALSCALE:GREGORIAN
BEGIN:VEVENT
DTSTART;VALUE=DATE:20090425
DTEND;VALUE=DATE:20090426
TRANSP:TRANSPARENT
X-MICROSOFT-CDO-ALLDAYEVENT:TRUE
SUMMARY:Ribbon Cutting- La Chic Image
DESCRIPTION:La Chic Image1183 North Main StreetSaturday\, April 25thTime: 12 pmCome on out and support our Chamber Member
X-ALT-DESC;FMTTYPE=text/html:<div align="center"><font size="5">La Chic Image</font></div><div align="center"><font size="5">1183&nbsp\;North Main Street</font></div><div align="center"><font size="5">Saturday\, April 25th</font></div><div align="center"><font size="5">Time:&nbsp\;12 pm</font></div><div align="center"><font size="5">Come on out and support our </font></div><div align="center"><font size="5">Chamber Member</font></div>
LOCATION:
UID:e.125.2293
SEQUENCE:3
DTSTAMP:20260424T005244Z
URL:https://members.tooelechamber.com/events/details/ribbon-cutting-la-chic-image-04-25-2009-2293
END:VEVENT

END:VCALENDAR
