BEGIN:VCALENDAR
VERSION:2.0
PRODID:-//ChamberMaster//Event Calendar 2.0//EN
METHOD:PUBLISH
X-PUBLISHED-TTL:P3D
REFRESH-INTERVAL:P3D
CALSCALE:GREGORIAN
BEGIN:VEVENT
DTSTART:20140822T180000Z
DTEND:20140822T190000Z
X-MICROSOFT-CDO-ALLDAYEVENT:FALSE
SUMMARY:Ribbon Cutting: Little Apples Day Care
DESCRIPTION:Ribbon Cutting: Little Apples Day Care
X-ALT-DESC;FMTTYPE=text/html:Ribbon Cutting: Little Apples Day Care<br />\n&nbsp\;
LOCATION:225 W Apple Street Grantsville\, UT 84029
UID:e.125.5386
SEQUENCE:3
DTSTAMP:20260419T125532Z
URL:https://members.tooelechamber.com/events/details/ribbon-cutting-little-apples-day-care-08-22-2014-5386
END:VEVENT

END:VCALENDAR
