BEGIN:VCALENDAR
VERSION:2.0
PRODID:-//ChamberMaster//Event Calendar 2.0//EN
METHOD:PUBLISH
X-PUBLISHED-TTL:P3D
REFRESH-INTERVAL:P3D
CALSCALE:GREGORIAN
BEGIN:VEVENT
DTSTART:20140828T180000Z
DTEND:20140828T190000Z
X-MICROSOFT-CDO-ALLDAYEVENT:FALSE
SUMMARY:Ribbon Cutting: MWMC Clinics
DESCRIPTION:Ribbon Cutting: MWMC Podiatry/Orthopedic Clinc\n\nDr. Carlson & Dr. Daynes
X-ALT-DESC;FMTTYPE=text/html:Ribbon Cutting: MWMC Podiatry/Orthopedic Clinc<br />\nDr. Carlson &amp\; Dr. Daynes
LOCATION:1929 N Aaron Drive Ste. L Tooele
UID:e.125.5387
SEQUENCE:3
DTSTAMP:20260419T142854Z
URL:https://members.tooelechamber.com/events/details/ribbon-cutting-mwmc-clinics-08-28-2014-5387
END:VEVENT

END:VCALENDAR
