BEGIN:VCALENDAR
VERSION:2.0
PRODID:-//ChamberMaster//Event Calendar 2.0//EN
METHOD:PUBLISH
X-PUBLISHED-TTL:P3D
REFRESH-INTERVAL:P3D
CALSCALE:GREGORIAN
BEGIN:VEVENT
DTSTART:20070315T180000Z
DTEND:20070315T181500Z
X-MICROSOFT-CDO-ALLDAYEVENT:FALSE
SUMMARY:Ribbon Cutting- Ovation Enterprises
DESCRIPTION:Come help us celebrate the grand opening of Ovation Enterprises!  The Chamber will conduct a Ribbon Cutting on Thursday\, March 15th at 12:00 noon at the Chamber Office\, 201 North Main (Key Bank\, upstairs) . Hope to see you there!
X-ALT-DESC;FMTTYPE=text/html:Come help us celebrate the grand opening of Ovation Enterprises!&nbsp\; The Chamber will conduct a Ribbon Cutting on Thursday\, March 15th at 12:00 noon at the Chamber Office\, 201 North Main (Key Bank\,&nbsp\;upstairs)&nbsp\;. Hope to see you there!
LOCATION:Chamber Office\, 201 North Main\, Tooele
UID:e.125.57
SEQUENCE:3
DTSTAMP:20260425T155308Z
URL:https://members.tooelechamber.com/events/details/ribbon-cutting-ovation-enterprises-03-15-2007-57
END:VEVENT

END:VCALENDAR
