BEGIN:VCALENDAR
VERSION:2.0
PRODID:-//ChamberMaster//Event Calendar 2.0//EN
METHOD:PUBLISH
X-PUBLISHED-TTL:P3D
REFRESH-INTERVAL:P3D
CALSCALE:GREGORIAN
BEGIN:VEVENT
DTSTART:20140801T180000Z
DTEND:20140801T190000Z
X-MICROSOFT-CDO-ALLDAYEVENT:FALSE
SUMMARY:Ribbon cutting: Preimer Real Estate
DESCRIPTION:Ribbon Cutting
X-ALT-DESC;FMTTYPE=text/html:Ribbon Cutting&nbsp\; &nbsp\;
LOCATION:205 North Main Street Tooele
UID:e.125.5358
SEQUENCE:3
DTSTAMP:20260419T124009Z
URL:https://members.tooelechamber.com/events/details/ribbon-cutting-preimer-real-estate-08-01-2014-5358
END:VEVENT

END:VCALENDAR
