BEGIN:VCALENDAR
VERSION:2.0
PRODID:-//ChamberMaster//Event Calendar 2.0//EN
METHOD:PUBLISH
X-PUBLISHED-TTL:P3D
REFRESH-INTERVAL:P3D
CALSCALE:GREGORIAN
BEGIN:VEVENT
DTSTART:20080403T180000Z
DTEND:20080403T180000Z
X-MICROSOFT-CDO-ALLDAYEVENT:FALSE
SUMMARY:Ribbon Cutting\, Premier Mortgage
DESCRIPTION:Ribbon CuttingPremier Mortgage
X-ALT-DESC;FMTTYPE=text/html:<div>Ribbon Cutting</div><div>Premier Mortgage</div>
LOCATION:36 N. Main StreetSuite #3Tooele\, UT 84074
UID:e.125.262
SEQUENCE:3
DTSTAMP:20260424T215853Z
URL:https://members.tooelechamber.com/events/details/ribbon-cutting-premier-mortgage-04-03-2008-262
END:VEVENT

END:VCALENDAR
