BEGIN:VCALENDAR
VERSION:2.0
PRODID:-//ChamberMaster//Event Calendar 2.0//EN
METHOD:PUBLISH
X-PUBLISHED-TTL:P3D
REFRESH-INTERVAL:P3D
CALSCALE:GREGORIAN
BEGIN:VEVENT
DTSTART:20120216T190000Z
DTEND:20120216T200000Z
X-MICROSOFT-CDO-ALLDAYEVENT:FALSE
SUMMARY:Ribbon Cutting- Richard RoundUp BBQ
DESCRIPTION:Ribbon Cutting\n\nRichard RoundUp BBQ\n\n12 noon- 1p.m.\n\n196 W. Main\n\nGrantsville\, Ut
X-ALT-DESC;FMTTYPE=text/html:<strong><span style="font-size: 20px">Ribbon Cutting<br />\nRichard RoundUp BBQ<br />\n12 noon- 1p.m.<br />\n196 W. Main<br />\nGrantsville\, Ut</span></strong>
LOCATION:
UID:e.125.4792
SEQUENCE:3
DTSTAMP:20260421T185828Z
URL:https://members.tooelechamber.com/events/details/ribbon-cutting-richard-roundup-bbq-02-16-2012-4792
END:VEVENT

END:VCALENDAR
