BEGIN:VCALENDAR
VERSION:2.0
PRODID:-//ChamberMaster//Event Calendar 2.0//EN
METHOD:PUBLISH
X-PUBLISHED-TTL:P3D
REFRESH-INTERVAL:P3D
CALSCALE:GREGORIAN
BEGIN:VEVENT
DTSTART:20140219T220000Z
DTEND:20140219T230000Z
X-MICROSOFT-CDO-ALLDAYEVENT:FALSE
SUMMARY:Ribbon Cutting- Scholar Academy
DESCRIPTION:Ribbon Cutting: Scholar Academy\n\nWednesday\, February 19th\, 2014\n\n3:00 PM\n\n928 South 100 East Tooele\n\nPlease come and help us break ground for Scholar Academy!!!!
X-ALT-DESC;FMTTYPE=text/html:<span style="font-size:26px\;"><span style="color:#0000cd\;">Ribbon Cutting: Scholar Academy<br />\nWednesday\, February 19<sup>th</sup>\, 2014<br />\n3:00 PM<br />\n928 South 100 East Tooele<br />\nPlease come and help us break ground for Scholar Academy!!!!</span></span><br />\n<br />\n
LOCATION:
UID:e.125.5065
SEQUENCE:3
DTSTAMP:20260420T000600Z
URL:https://members.tooelechamber.com/events/details/ribbon-cutting-scholar-academy-02-19-2014-5065
END:VEVENT

END:VCALENDAR
