BEGIN:VCALENDAR
VERSION:2.0
PRODID:-//ChamberMaster//Event Calendar 2.0//EN
METHOD:PUBLISH
X-PUBLISHED-TTL:P3D
REFRESH-INTERVAL:P3D
CALSCALE:GREGORIAN
BEGIN:VEVENT
DTSTART:20130323T160000Z
DTEND:20130323T170000Z
X-MICROSOFT-CDO-ALLDAYEVENT:FALSE
SUMMARY:Ribbon Cutting-The Coffee Shoppe
DESCRIPTION:RIBBON CUTTING \n\n	March 23\, 2013 - Saturday\n\n	10:00 AM\n\n	The Coffee Shoppe\n\n	Britni Harris\n\n	Guy Pannunzio\n\n	832 North Main Street (Cal Ranch Parking Lot)\n\n	Tooele\, Utah  84074Click here to edit...
X-ALT-DESC;FMTTYPE=text/html:<div style="color: gray">\n	<span style="font-size: 18px"><span style="color: indigo"><span style="font-family: arial\, sans-serif"><u>RIBBON CUTTING </u></span></span></span><br />\n	<span style="font-size: 10pt"><span style="color: indigo"><span style="font-family: arial\, sans-serif">March 23\, 2013 - Saturday<br />\n	10:00 AM<br />\n	<span style="font-size: 18px">The Coffee Shoppe</span><br />\n	Britni Harris<br />\n	Guy Pannunzio<br />\n	832 North Main Street (Cal Ranch Parking Lot)<br />\n	Tooele\, Utah&nbsp\; 84074Click</span></span></span> here to edit...</div>\n
LOCATION:
UID:e.125.4995
SEQUENCE:3
DTSTAMP:20260420T202053Z
URL:https://members.tooelechamber.com/events/details/ribbon-cutting-the-coffee-shoppe-03-23-2013-4995
END:VEVENT

END:VCALENDAR
