BEGIN:VCALENDAR
VERSION:2.0
PRODID:-//ChamberMaster//Event Calendar 2.0//EN
METHOD:PUBLISH
X-PUBLISHED-TTL:P3D
REFRESH-INTERVAL:P3D
CALSCALE:GREGORIAN
BEGIN:VEVENT
DTSTART:20130729T200000Z
DTEND:20130729T210000Z
X-MICROSOFT-CDO-ALLDAYEVENT:FALSE
SUMMARY:Ribbon Cutting-The Dance Centre
DESCRIPTION:Ribbon Cutting\n\n	Monday\, July 29th\, 2013\n\n	The Dance Centre\n\n	500 East Village Blvd.\, #206\n\n	Stansbury Park\, Utah\n\n	2:00pm\n\n	We hope to see you there!!!!
X-ALT-DESC;FMTTYPE=text/html:<div style="color: gray">\n	<span style="font-size: 20px"><strong><span style="color: #ff0000"><u><span style="font-weight: normal"><span style="font-family: tahoma\, sans-serif">Ribbon Cutting</span></span></u></span></strong></span><br />\n	<span style="background: white"><span style="font-size: 10.5pt"><span style="color: black"><span style="font-family: tahoma\, sans-serif"><span style="float: none\; word-spacing: 0px\; -webkit-text-stroke-width: 0px"><span style="float: none\; word-spacing: 0px\; -webkit-text-stroke-width: 0px">Monday\, July 29th\, 2013</span></span></span></span><br />\n	<span style="font-size: 20px"><u><strong><span style="color: #ff0000"><span style="font-family: tahoma\, sans-serif"><span style="float: none\; word-spacing: 0px\; -webkit-text-stroke-width: 0px"><span style="float: none\; word-spacing: 0px\; -webkit-text-stroke-width: 0px">The Dance Centre</span></span></span></span></strong></u></span><br />\n	<span style="color: black"><span style="font-family: tahoma\, sans-serif"><span style="float: none\; word-spacing: 0px\; -webkit-text-stroke-width: 0px"><span style="float: none\; word-spacing: 0px\; -webkit-text-stroke-width: 0px">500 East Village Blvd.\, #206<br />\n	Stansbury Park\, Utah</span></span></span></span></span></span><br />\n	<span style="background: white"><span style="font-size: 10.5pt"><span style="color: black"><span style="font-family: tahoma\, sans-serif"><span style="float: none\; word-spacing: 0px\; -webkit-text-stroke-width: 0px">2:00pm</span></span></span></span></span><br />\n	<span style="background: white"><span style="font-size: 10.5pt"><span style="color: black"><span style="font-family: tahoma\, sans-serif"><span style="float: none\; word-spacing: 0px\; -webkit-text-stroke-width: 0px">We hope to see you there!!!!</span></span></span></span></span><br />\n	&nbsp\;</div>\n
LOCATION:
UID:e.125.5034
SEQUENCE:3
DTSTAMP:20260420T145029Z
URL:https://members.tooelechamber.com/events/details/ribbon-cutting-the-dance-centre-07-29-2013-5034
END:VEVENT

END:VCALENDAR
