BEGIN:VCALENDAR
VERSION:2.0
PRODID:-//ChamberMaster//Event Calendar 2.0//EN
METHOD:PUBLISH
X-PUBLISHED-TTL:P3D
REFRESH-INTERVAL:P3D
CALSCALE:GREGORIAN
BEGIN:VEVENT
DTSTART:20070627T180000Z
DTEND:20070627T180000Z
X-MICROSOFT-CDO-ALLDAYEVENT:FALSE
SUMMARY:Ribbon Cutting\, Utah Fabrication
DESCRIPTION:Utah Fabrication Ribbon Cutting
X-ALT-DESC;FMTTYPE=text/html:Utah Fabrication Ribbon Cutting
LOCATION:1485 W. James Way Utah Industrial Depot Tooele\, Ut 84074
UID:e.125.119
SEQUENCE:3
DTSTAMP:20260425T114138Z
URL:https://members.tooelechamber.com/events/details/ribbon-cutting-utah-fabrication-06-27-2007-119
END:VEVENT

END:VCALENDAR
