BEGIN:VCALENDAR
VERSION:2.0
PRODID:-//ChamberMaster//Event Calendar 2.0//EN
METHOD:PUBLISH
X-PUBLISHED-TTL:P3D
REFRESH-INTERVAL:P3D
CALSCALE:GREGORIAN
BEGIN:VEVENT
DTSTART;VALUE=DATE:20070404
DTEND;VALUE=DATE:20070405
TRANSP:TRANSPARENT
X-MICROSOFT-CDO-ALLDAYEVENT:TRUE
SUMMARY:Ribbon Cutting- Valerie Wimmer- ReMax Platinum
DESCRIPTION:Come join us in celebrating the new membership of Valerie Wimmer- ReMax Platinum!  Ribbon cutting will be held on Wednesday\, April 4th at 12:00 noon. ReMax Platinum is located at 1185 North Main Street\, Tooele.
X-ALT-DESC;FMTTYPE=text/html:Come join us in celebrating the new membership of Valerie Wimmer- ReMax Platinum!&nbsp\; Ribbon cutting will be held on Wednesday\, April 4th at 12:00 noon. ReMax Platinum is located at 1185 North Main Street\, Tooele.
LOCATION:1185 North Main\, Tooele
UID:e.125.68
SEQUENCE:3
DTSTAMP:20260425T142621Z
URL:https://members.tooelechamber.com/events/details/ribbon-cutting-valerie-wimmer-remax-platinum-04-04-2007-68
END:VEVENT

END:VCALENDAR
