BEGIN:VCALENDAR
VERSION:2.0
PRODID:-//ChamberMaster//Event Calendar 2.0//EN
METHOD:PUBLISH
X-PUBLISHED-TTL:P3D
REFRESH-INTERVAL:P3D
CALSCALE:GREGORIAN
BEGIN:VEVENT
DTSTART:20070629T140000Z
DTEND:20070629T140000Z
X-MICROSOFT-CDO-ALLDAYEVENT:FALSE
SUMMARY:Ribbon Cutting\, Wal Mart Super Center
DESCRIPTION:Wal Mart Super Center Re-Grand Opening!
X-ALT-DESC;FMTTYPE=text/html:Wal Mart Super Center Re-Grand Opening!
LOCATION:99 W. 1280 N. Tooele\, Utah 84074
UID:e.125.120
SEQUENCE:3
DTSTAMP:20260425T114149Z
URL:https://members.tooelechamber.com/events/details/ribbon-cutting-wal-mart-super-center-06-29-2007-120
END:VEVENT

END:VCALENDAR
