BEGIN:VCALENDAR
VERSION:2.0
PRODID:-//ChamberMaster//Event Calendar 2.0//EN
METHOD:PUBLISH
X-PUBLISHED-TTL:P3D
REFRESH-INTERVAL:P3D
CALSCALE:GREGORIAN
BEGIN:VEVENT
DTSTART:20100122T200000Z
DTEND:20100122T201500Z
X-MICROSOFT-CDO-ALLDAYEVENT:FALSE
SUMMARY:Ribbon Cuttings
DESCRIPTION:Ribbon Cuttings\nFriday\, January 22 \nUpgrades\, Etcetera Computers - 1:00 pm\n26 West Vine\, Tooele \n\nFriday\, January 22 \nRoni's Signs- 1:15 pm\n38 West Vine\, Tooele
X-ALT-DESC;FMTTYPE=text/html:<div style="text-align: center"><u><strong>&nbsp\;</strong><span style="font-weight: 700"><font face="Times New Roman" style="font-size: 14pt">Ribbon Cuttings</font></span></u><span style="font-weight: 700"><br /><font face="Times New Roman" style="font-size: 11pt">Friday\, January 22 <br /><font color="#ff0000">Upgrades\, Etcetera Computers -&nbsp\;1:00 pm</font><br />26 West Vine\, Tooele <br /><br />Friday\, January 22 <br /><font color="#ff0000">Roni's Signs- 1:15 pm</font><br />38 West Vine\, Tooele</font></span></div>
LOCATION:
UID:e.125.2628
SEQUENCE:3
DTSTAMP:20260423T103835Z
URL:https://members.tooelechamber.com/events/details/ribbon-cuttings-01-22-2010-2628
END:VEVENT

END:VCALENDAR
