BEGIN:VCALENDAR
VERSION:2.0
PRODID:-//ChamberMaster//Event Calendar 2.0//EN
METHOD:PUBLISH
X-PUBLISHED-TTL:P3D
REFRESH-INTERVAL:P3D
CALSCALE:GREGORIAN
BEGIN:VEVENT
DTSTART:20120512T140000Z
DTEND:20120512T220000Z
X-MICROSOFT-CDO-ALLDAYEVENT:FALSE
SUMMARY:Rosewood Dental Free Day
DESCRIPTION:Rosewood Dental Associates Free Dental Day\n\n	Saturday\, May 12\, 2012\n\n	181 West Vine Street\, Tooele\n\n	435-882-0099\n\n	Starting @ 8 am\n\n	First come\, first served basis.\n\n	No appointments taken.\n\n	Only one free service on\n\n	that day per patient.\n\n	Free cleaning\, filling or extraction only.
X-ALT-DESC;FMTTYPE=text/html:<p>\n	<span style="font-size: 26px"><strong><u>Rosewood Dental Associates Free Dental Day</u></strong></span><br />\n	<span style="font-size: 24px">Saturday\, May 12\, 2012</span><br />\n	<span style="font-size: 24px">181 West Vine Street\, Tooele</span><br />\n	<span style="font-size: 24px">435-882-0099<br />\n	Starting @ 8 am<br />\n	First come\, first served basis.<br />\n	No appointments taken.<br />\n	Only one free service on<br />\n	that day per patient.<br />\n	Free cleaning\, filling or extraction only</span>.<br />\n	<br />\n	&nbsp\;</p>\n
LOCATION:
UID:e.125.4843
SEQUENCE:3
DTSTAMP:20260421T154843Z
URL:https://members.tooelechamber.com/events/details/rosewood-dental-free-day-05-12-2012-4843
END:VEVENT

END:VCALENDAR
