BEGIN:VCALENDAR
VERSION:2.0
PRODID:-//ChamberMaster//Event Calendar 2.0//EN
METHOD:PUBLISH
X-PUBLISHED-TTL:P3D
REFRESH-INTERVAL:P3D
CALSCALE:GREGORIAN
BEGIN:VEVENT
DTSTART;VALUE=DATE:20140718
DTEND;VALUE=DATE:20140721
TRANSP:TRANSPARENT
X-MICROSOFT-CDO-ALLDAYEVENT:TRUE
SUMMARY:Rotax MAX U.S. Grand Nationals at Miller Motorsports Park
DESCRIPTION:The Rotax MAX Challenge (RMC) is a professional kart racing series established\, owned and organized by BRP-Powertrain and its distributors. The RMC is a "one-make-engine" formula: only Rotax kart engines are allowed. There are seven different race classes: 125 Micro Max\, 125 Mini Max\, 125 Junior Max\, 125 Senior Max\, 125 Masters Max\, 125 Max DD2 and 125 Max DD2 Masters.
X-ALT-DESC;FMTTYPE=text/html:<span style="color: rgb(110\, 110\, 110)\; font-family: Helvetica\, Arial\, FreeSans\, sans-serif\; font-size: 14px\; line-height: 23.799999237060547px\; background-color: rgb(245\, 245\, 245)\;">The Rotax MAX Challenge (RMC) is a professional kart racing series established\, owned and organized by BRP-Powertrain and its distributors. The RMC is a &quot\;one-make-engine&quot\; formula: only Rotax kart engines are allowed. There are seven different race classes: 125 Micro Max\, 125 Mini Max\, 125 Junior Max\, 125 Senior Max\, 125 Masters Max\, 125 Max DD2 and 125 Max DD2 Masters.</span>
LOCATION:Miller Motorsports Park 2901 North Sheep Lane Tooele
UID:e.125.5360
SEQUENCE:3
DTSTAMP:20260419T143249Z
URL:https://members.tooelechamber.com/events/details/rotax-max-u-s-grand-nationals-at-miller-motorsports-park-07-18-2014-5360
END:VEVENT

END:VCALENDAR
