BEGIN:VCALENDAR
VERSION:2.0
PRODID:-//ChamberMaster//Event Calendar 2.0//EN
METHOD:PUBLISH
X-PUBLISHED-TTL:P3D
REFRESH-INTERVAL:P3D
CALSCALE:GREGORIAN
BEGIN:VEVENT
DTSTART;VALUE=DATE:20110709
DTEND;VALUE=DATE:20110710
TRANSP:TRANSPARENT
X-MICROSOFT-CDO-ALLDAYEVENT:TRUE
SUMMARY:Rush Valley Jackpot Rodeo
DESCRIPTION:Rush Valley Annual Jackpot Rodeo \n\n	Saturday\, July 9\, 2011\n\n	Rush Valley Rodeo Grounds\n\n	Contact: 435-830-4806
X-ALT-DESC;FMTTYPE=text/html:<p style="text-align: center">\n	<span style="font-size: 20px">Rush Valley Annual Jackpot Rodeo </span></p>\n<p style="text-align: center">\n	<span style="font-size: 20px">Saturday\, July 9\, 2011</span></p>\n<p style="text-align: center">\n	<span style="font-size: 20px">Rush Valley Rodeo Grounds<br />\n	Contact: 435-830-4806</span><br />\n	&nbsp\;</p>\n
LOCATION:
UID:e.125.3548
SEQUENCE:3
DTSTAMP:20260422T073908Z
URL:https://members.tooelechamber.com/events/details/rush-valley-jackpot-rodeo-07-09-2011-3548
END:VEVENT

END:VCALENDAR
