BEGIN:VCALENDAR
VERSION:2.0
PRODID:-//ChamberMaster//Event Calendar 2.0//EN
METHOD:PUBLISH
X-PUBLISHED-TTL:P3D
REFRESH-INTERVAL:P3D
CALSCALE:GREGORIAN
BEGIN:VEVENT
DTSTART;VALUE=DATE:20100710
DTEND;VALUE=DATE:20100711
TRANSP:TRANSPARENT
X-MICROSOFT-CDO-ALLDAYEVENT:TRUE
SUMMARY:Rush Valley Jackpot Rodeo
DESCRIPTION:Rush Valley Jackot Rodeo Saturday\, July 10\, 2010Rush Valley Rodeo Grounds
X-ALT-DESC;FMTTYPE=text/html:<div style="text-align: center"><span style="font-size: x-large">Rush Valley Jackot Rodeo </span></div><div style="text-align: center"><span style="font-size: x-large">Saturday\, July 10\, 2010</span></div><div style="text-align: center"><span style="font-size: x-large">Rush Valley Rodeo Grounds </span></div>
LOCATION:
UID:e.125.3182
SEQUENCE:3
DTSTAMP:20260423T031101Z
URL:https://members.tooelechamber.com/events/details/rush-valley-jackpot-rodeo-07-10-2010-3182
END:VEVENT

END:VCALENDAR
