BEGIN:VCALENDAR
VERSION:2.0
PRODID:-//ChamberMaster//Event Calendar 2.0//EN
METHOD:PUBLISH
X-PUBLISHED-TTL:P3D
REFRESH-INTERVAL:P3D
CALSCALE:GREGORIAN
BEGIN:VEVENT
DTSTART:20100128T020000Z
DTEND:20100128T020000Z
X-MICROSOFT-CDO-ALLDAYEVENT:FALSE
SUMMARY:Rush Valley Town Council
DESCRIPTION:Rush Valley Town CouncilRush Valley Town Hall52 West Park Lane\, Rush Valley7 pm
X-ALT-DESC;FMTTYPE=text/html:<div align="center"><font size="5">Rush Valley Town Council</font></div><div align="center"><font size="5">Rush Valley Town Hall</font></div><div align="center"><font size="5">52 West Park Lane\, Rush Valley</font></div><div align="center"><font size="5">7 pm</font></div>
LOCATION:
UID:e.125.1440
SEQUENCE:3
DTSTAMP:20260423T120112Z
URL:https://members.tooelechamber.com/events/details/rush-valley-town-council-01-27-2010-1440
END:VEVENT

END:VCALENDAR
