BEGIN:VCALENDAR
VERSION:2.0
PRODID:-//ChamberMaster//Event Calendar 2.0//EN
METHOD:PUBLISH
X-PUBLISHED-TTL:P3D
REFRESH-INTERVAL:P3D
CALSCALE:GREGORIAN
BEGIN:VEVENT
DTSTART:20120126T020000Z
DTEND:20120126T030000Z
X-MICROSOFT-CDO-ALLDAYEVENT:FALSE
SUMMARY:Rush Valley Town Council Meetings
DESCRIPTION:Rush Valley Town Council Meetings\n\n7-8 p.m.\n\nRush Valley Town Hall
X-ALT-DESC;FMTTYPE=text/html:<strong><span style="font-size: 20px">Rush Valley Town Council Meetings<br />\n7-8 p.m.<br />\nRush Valley Town Hall</span></strong>
LOCATION:
UID:e.125.4775
SEQUENCE:3
DTSTAMP:20260421T220658Z
URL:https://members.tooelechamber.com/events/details/rush-valley-town-council-meetings-01-25-2012-4775
END:VEVENT

END:VCALENDAR
