BEGIN:VCALENDAR
VERSION:2.0
PRODID:-//ChamberMaster//Event Calendar 2.0//EN
METHOD:PUBLISH
X-PUBLISHED-TTL:P3D
REFRESH-INTERVAL:P3D
CALSCALE:GREGORIAN
BEGIN:VEVENT
DTSTART:20121227T020000Z
DTEND:20121227T030000Z
X-MICROSOFT-CDO-ALLDAYEVENT:FALSE
SUMMARY:Rush Valley Town Council Meetings
DESCRIPTION:Rush Valley Town Council Meetings\n\n7-8 p.m.\n\nRush Valley Town Hall
X-ALT-DESC;FMTTYPE=text/html:<span style="font-size: 20px"><strong>Rush Valley Town Council Meetings<br />\n7-8 p.m.<br />\nRush Valley Town Hall<span _fck_bookmark="1" style="display: none">&nbsp\;</span></strong></span>
LOCATION:
UID:e.125.4786
SEQUENCE:3
DTSTAMP:20260421T013945Z
URL:https://members.tooelechamber.com/events/details/rush-valley-town-council-meetings-12-26-2012-4786
END:VEVENT

END:VCALENDAR
