BEGIN:VCALENDAR
VERSION:2.0
PRODID:-//ChamberMaster//Event Calendar 2.0//EN
METHOD:PUBLISH
X-PUBLISHED-TTL:P3D
REFRESH-INTERVAL:P3D
CALSCALE:GREGORIAN
BEGIN:VEVENT
DTSTART:20140502T180000Z
DTEND:20140502T190000Z
X-MICROSOFT-CDO-ALLDAYEVENT:FALSE
SUMMARY:Salon Capelli Ribbon Cutting
DESCRIPTION:Ribbon Cutting
X-ALT-DESC;FMTTYPE=text/html:Ribbon Cutting
LOCATION:1 North Main Street\, Tooele UT 84074
UID:e.125.5074
SEQUENCE:3
DTSTAMP:20260419T200912Z
URL:https://members.tooelechamber.com/events/details/salon-capelli-ribbon-cutting-05-02-2014-5074
END:VEVENT

END:VCALENDAR
