BEGIN:VCALENDAR
VERSION:2.0
PRODID:-//ChamberMaster//Event Calendar 2.0//EN
METHOD:PUBLISH
X-PUBLISHED-TTL:P3D
REFRESH-INTERVAL:P3D
CALSCALE:GREGORIAN
BEGIN:VEVENT
DTSTART:20070606T150000Z
DTEND:20070606T210000Z
X-MICROSOFT-CDO-ALLDAYEVENT:FALSE
SUMMARY:Salt Lake CAP Head Start Application day
DESCRIPTION:Interested people must call the following number to make an appointment for registration.  \n1-435-882-6743.\n\nHead Start is a comprehensive preshool and family program for income qualifying familes and for children with disabilities.  Classrooms available throughout Tooele county.
X-ALT-DESC;FMTTYPE=text/html:Interested people must call the following number to make an appointment for registration.  \n1-435-882-6743.\n\nHead Start is a comprehensive preshool and family program for income qualifying familes and for children with disabilities.  Classrooms available throughout Tooele county. 
LOCATION:Salt Lake CAP Head Start Tooele Faciliy
UID:e.125.107
SEQUENCE:3
DTSTAMP:20260425T114016Z
URL:https://members.tooelechamber.com/events/details/salt-lake-cap-head-start-application-day-06-06-2007-107
END:VEVENT

END:VCALENDAR
