BEGIN:VCALENDAR
VERSION:2.0
PRODID:-//ChamberMaster//Event Calendar 2.0//EN
METHOD:PUBLISH
X-PUBLISHED-TTL:P3D
REFRESH-INTERVAL:P3D
CALSCALE:GREGORIAN
BEGIN:VEVENT
DTSTART;VALUE=DATE:20090523
DTEND;VALUE=DATE:20090524
TRANSP:TRANSPARENT
X-MICROSOFT-CDO-ALLDAYEVENT:TRUE
SUMMARY:Salt Lake Triathlon Information
DESCRIPTION:The Salt Lake Triathlon Series kicks off at Stansbury Park lake\, located just 20 minutes outside of Salt Lake.  This beautiful community offers triathletes from all experience levels a great early season open water swim\, a fast bike course and a great run through the community and out onto the island.  The Transition Area is ideally located right next to the lake and provides athletes a fast transition from the swim and onto the bike where this super fast course will take you through some of the country roads.  With loads of open space and flat straightaways you'll be able to see the competition making for a fun and exciting race.  We look forward to seeing you all there! Schedule of EventsSaturday May 23\, 20096:00- 9:00 AM   Timing chip pickup and body marking\nat the Golf Course Clubhouse9:00 AM Olympic Pre-Race Meeting \n(At Boat Ramp / Transition Area)9:30 AM Olympic Swim Segment Begins \n(Multiple wave starts\, TBA)10:00 AM Sprint Pre-Race Meeting \n(At Boat Ramp / Transition Area) 10:30 AM Sprint Swim Segment Begins\n(Multiple wave starts\, TBA)1:00 AM Awards Ceremony and PrizesPacket pickup: The packet pickup will take place at the Stansbury Park Golf Clubhouse on the morning of race day.Standard USA Triathlon rules apply for packet pickup.  All athletes must have a photo ID presented at registration.  You will not be allowed to pick up your packet without a photo ID.  USA Triathlon members must present your current USAT membership card at the time of packet pickup.  Failure to bring your card will result in a single day $10 membership fee.  Anyone racing who is not a USAT member will be required to pay the $10 single day membership fee.  No exceptions.In order to ensure compliance with USAT rules and regulations\, you may not pick up a packet or timing chip for another person.  Packets will include a swim cap\, bike number\, bib number\, course maps\, t-shirt and other products from the race sponsors.Body Marking and Timing Chip Pickup:Between 6:00am and 8:30am you will need to come to the Stansbury Park Golf Clubhouse to pick up packets and be issues your timing chip.  Body marking will also take place at the Clubhouse.  Athletes will then be able to set up their equipment at the transition area.Directions to Stansbury Park Clubhouse:From Salt Lake: Take Interstate 15 north to I-80.  Take I-80 West to the Stansbury Park exit / State Route 36.  Proceed 3.4 miles southwest until reaching Stansbury Parkway.  Make a right-hand turn onto Stansbury Parkway.  Take first left onto Countryclub Dr.  Take the next right onto Clubhouse Dr and follow around to the Stansbury Park Clubhouse.\nhttp://www.ustrisports.com/stansbury.htm
X-ALT-DESC;FMTTYPE=text/html:<div><strong><font color="#005579" size="2">The Salt Lake Triathlon Series kicks off at Stansbury Park lake\, located just 20 minutes outside of Salt Lake.&nbsp\; This beautiful community offers triathletes from all experience levels a great early season open water swim\, a fast bike course and a great run through the community and out onto the island.&nbsp\; The Transition Area is ideally located right next to the lake and provides athletes a fast transition from the swim and onto the bike where this super fast course will take you through some of the country roads.&nbsp\; With loads of open space and flat straightaways you&rsquo\;ll be able to see the competition making for a fun and exciting race.&nbsp\; We look forward to seeing you all there!</font></strong></div><div>&nbsp\;</div><div><strong><font color="#005579" size="2"><p style="margin: 12px 15px"><strong><font color="#d92027" size="2"><font face="Arial"><span style="text-transform: uppercase">Schedule of Events</span></font></font></strong></p><p style="margin: 12px 15px"><font color="#005579" size="2"><font face="Arial">Saturday May 23\, 2009</font></font></p><p style="margin: 12px 15px"><font color="#005579" size="2"><font face="Arial">6:00- 9:00 AM &ndash\; Timing chip pickup and body marking<br />at the Golf Course Clubhouse</font></font></p><p style="margin: 12px 15px"><font color="#005579" size="2"><font face="Arial">9:00 AM Olympic Pre-Race Meeting <br />(At Boat Ramp / Transition Area)</font></font></p><p style="margin: 12px 15px"><font color="#005579" size="2"><font face="Arial">9:30 AM Olympic Swim Segment Begins <br />(Multiple wave starts\, TBA)</font></font></p><p style="margin: 12px 15px"><font color="#005579" size="2"><font face="Arial">10:00 AM Sprint Pre-Race Meeting <br />(At Boat Ramp / Transition Area) </font></font></p><p style="margin: 12px 15px"><font color="#005579" size="2"><font face="Arial">10:30 AM Sprint Swim Segment Begins<br />(Multiple wave starts\, TBA)</font></font></p><p style="margin: 12px 15px"><font color="#005579" size="2"><font face="Arial">1:00 AM Awards Ceremony and Prizes</font></font></p><p style="margin: 12px 15px"><strong><font color="#d92027" size="2"><font face="Arial"><span style="text-transform: uppercase">Packet pickup: </span></font></font></strong></p><p style="margin: 12px 15px"><font color="#005579" size="2"><font face="Arial">The packet pickup will take place at the Stansbury Park Golf Clubhouse on the morning of race day.</font></font></p><p style="margin: 12px 15px"><font color="#005579" size="2"><font face="Arial">Standard USA Triathlon rules apply for packet pickup.&nbsp\; All athletes must have a photo ID presented at registration.&nbsp\; You will not be allowed to pick up your packet without a photo ID.&nbsp\; USA Triathlon members must present your current USAT membership card at the time of packet pickup.&nbsp\; Failure to bring your card will result in a single day $10 membership fee.&nbsp\; Anyone racing who is not a USAT member will be required to pay the $10 single day membership fee.&nbsp\; No exceptions.</font></font></p><p style="margin: 12px 15px"><font face="Arial" color="#005579" size="2">In order to ensure compliance with USAT rules and regulations\, you may not pick up a packet or timing chip for another person.&nbsp\; </font></p><p style="margin: 12px 15px"><font face="Arial" color="#005579" size="2">Packets will include a swim cap\, bike number\, bib number\, course maps\, t-shirt and other products from the race sponsors.</font></p><p style="margin: 12px 15px"><strong><font color="#d92027" size="2"><font face="Arial"><span style="text-transform: uppercase">Body Marking and Timing Chip Pickup:</span></font></font></strong></p><p style="margin: 12px 15px"><font face="Arial" color="#005579" size="2">Between 6:00am and 8:30am you will need to come to the Stansbury Park Golf Clubhouse to pick up packets and be issues your timing chip.&nbsp\; Body marking will also take place at the Clubhouse.&nbsp\; Athletes will then be able to set up their equipment at the transition area.</font></p><p style="margin: 12px 15px"><strong><font color="#d92027" size="2"><font face="Arial"><span style="text-transform: uppercase">Directions to Stansbury Park Clubhouse:</span></font></font></strong></p><p style="margin: 12px 15px"><font face="Arial" color="#005579" size="2">From Salt Lake: Take Interstate 15 north to I-80.&nbsp\; Take I-80 West to the Stansbury Park exit / State Route 36.&nbsp\; Proceed 3.4 miles southwest until reaching Stansbury Parkway.&nbsp\; Make a right-hand turn onto Stansbury Parkway.&nbsp\; Take first left onto Countryclub Dr.&nbsp\; Take the next right onto Clubhouse Dr and follow around to the Stansbury Park Clubhouse.<br /></font></p><p style="margin: 12px 15px"><font face="Arial" color="#005579" size="2"><a href="http://www.ustrisports.com/stansbury.htm">http://www.ustrisports.com/stansbury.htm</a></font></p></font></strong></div>
LOCATION:
UID:e.125.523
SEQUENCE:3
DTSTAMP:20260423T232149Z
URL:https://members.tooelechamber.com/events/details/salt-lake-triathlon-information-05-23-2009-523
END:VEVENT

END:VCALENDAR
