BEGIN:VCALENDAR
VERSION:2.0
PRODID:-//ChamberMaster//Event Calendar 2.0//EN
METHOD:PUBLISH
X-PUBLISHED-TTL:P3D
REFRESH-INTERVAL:P3D
CALSCALE:GREGORIAN
BEGIN:VEVENT
DTSTART:20101217T010000Z
DTEND:20101217T023000Z
X-MICROSOFT-CDO-ALLDAYEVENT:FALSE
SUMMARY:Save-a-Buck Mini Holiday Fair
DESCRIPTION:Save-a-Buck Mini Holiday Fair\n\n	Is money tight this Christmas? Join USU Extension on Thursday\, December 16th at a Mini-Holiday Fair.  In these fun\, hands-on classes you will learn how to make inexpensive\, quick to make last minute presents for friends\, family and neighbors. From 6-7:30 p.m. for $3 learn how to needle felt an ornament and then embellish it with beads. From 7:30-9 p.m. learn how to make cake pops\, which are the hottest new pastry this year. For $3\, you'll make 6 different cake pops to take home with you. Recipes will be included\, of course. You can attend both classes or just one.  Open to adults and youth grades 3 and up.  If you would like to sign up to attend the Mini-Holiday Fair\, please stop by the USU Extension office at 151 N. Main (Health Building) Monday-Thursday 7 a.m.   6 p.m. Please prepay when you sign up. Questions? Call Darlene at 435-277-2406.
X-ALT-DESC;FMTTYPE=text/html:<p class="MsoNormal" style="margin: 0in 0in 0pt">\n	<b><span style="font-size: 14pt"><font color="#000000"><font face="Calibri">Save-a-Buck Mini Holiday Fair<o:p></o:p></font></font></span></b></p>\n<p class="MsoNormal" style="margin: 0in 0in 0pt">\n	<span style="font-size: 14pt"><font color="#000000"><font face="Calibri">Is money tight this Christmas? Join USU Extension on Thursday\, December 16<sup>th</sup> at a Mini-Holiday Fair. &nbsp\;In these fun\, hands-on classes you will learn how to make inexpensive\, quick to make last minute presents for friends\, family and neighbors. From 6-7:30 p.m. for $3 learn how to needle felt an ornament and then embellish it with beads. From 7:30-9 p.m. learn how to make cake pops\, which are the hottest new pastry this year. For $3\, you&rsquo\;ll make 6 different cake pops to take home with you. Recipes will be included\, of course. You can attend both classes or just one. &nbsp\;Open to adults and youth grades 3 and up. &nbsp\;If you would like to sign up to attend the Mini-Holiday Fair\, please stop by the USU Extension office at 151 N. Main (Health Building) Monday-Thursday 7 a.m. &ndash\; 6 p.m. Please prepay when you sign up. Questions? Call Darlene at 435-277-2406.<span _fck_bookmark="1" style="display: none">&nbsp\;</span><o:p></o:p></font></font></span></p>\n
LOCATION:
UID:e.125.3300
SEQUENCE:3
DTSTAMP:20260422T172137Z
URL:https://members.tooelechamber.com/events/details/save-a-buck-mini-holiday-fair-12-16-2010-3300
END:VEVENT

END:VCALENDAR
