BEGIN:VCALENDAR
VERSION:2.0
PRODID:-//ChamberMaster//Event Calendar 2.0//EN
METHOD:PUBLISH
X-PUBLISHED-TTL:P3D
REFRESH-INTERVAL:P3D
CALSCALE:GREGORIAN
BEGIN:VEVENT
DTSTART:20110615T180000Z
DTEND:20110615T190000Z
X-MICROSOFT-CDO-ALLDAYEVENT:FALSE
SUMMARY:Save Your Back - Body Mechanics for the Home Care Provider
DESCRIPTION:Mini-Lesson\n\n	Lunch N Learn Series\n\n	Presented by: Tooele Applied Technology College\n\n	66 West Vine Street\, Tooele\n\n	Free to the public\, includes pizza lunch!\n\n	Limited seating\, RSVP's accepted for accurate lunch count\n\n	 Save Your Back - Body Mechanics for the Home Care Provider with Tina Petersen\n\n	Learn safe techniques for transitioning the elderly or convalecsing from lying or sitting to standing or walking
X-ALT-DESC;FMTTYPE=text/html:<p style="text-align: center">\n	<span style="font-size: 18px">Mini-Lesson<br />\n	Lunch N Learn Series<br />\n	Presented by: Tooele Applied Technology College<br />\n	66 West Vine Street\, Tooele<br />\n	Free to the public\, includes pizza lunch!<br />\n	Limited seating\, RSVP&#39\;s accepted for accurate lunch count<br />\n	<span _fck_bookmark="1" style="display: none">&nbsp\;</span>Save Your Back - Body Mechanics for the Home Care Provider with Tina Petersen<br />\n	Learn safe techniques for transitioning the elderly or convalecsing from lying or sitting to standing or walking </span></p>\n
LOCATION:
UID:e.125.3588
SEQUENCE:3
DTSTAMP:20260422T075445Z
URL:https://members.tooelechamber.com/events/details/save-your-back-body-mechanics-for-the-home-care-provider-06-15-2011-3588
END:VEVENT

END:VCALENDAR
