BEGIN:VCALENDAR
VERSION:2.0
PRODID:-//ChamberMaster//Event Calendar 2.0//EN
METHOD:PUBLISH
X-PUBLISHED-TTL:P3D
REFRESH-INTERVAL:P3D
CALSCALE:GREGORIAN
BEGIN:VEVENT
DTSTART:20080328T003000Z
DTEND:20080328T023000Z
X-MICROSOFT-CDO-ALLDAYEVENT:FALSE
SUMMARY:Scentsy Fundraiser for The Children's Justice Center
DESCRIPTION:Scentsy FundraiserAll Profits will go to\,The Tooele Children's Justice CenterDOOR PRIZES!
X-ALT-DESC;FMTTYPE=text/html:<div>Scentsy Fundraiser</div><div>All Profits will go to\,</div><div>The Tooele Children&rsquo\;s Justice Center</div><div>DOOR PRIZES!</div>
LOCATION:Seniors Citizen's Center59 East Vine StTooele\, UT 84074
UID:e.125.237
SEQUENCE:3
DTSTAMP:20260424T232415Z
URL:https://members.tooelechamber.com/events/details/scentsy-fundraiser-for-the-children-s-justice-center-03-27-2008-237
END:VEVENT

END:VCALENDAR
