BEGIN:VCALENDAR
VERSION:2.0
PRODID:-//ChamberMaster//Event Calendar 2.0//EN
METHOD:PUBLISH
X-PUBLISHED-TTL:P3D
REFRESH-INTERVAL:P3D
CALSCALE:GREGORIAN
BEGIN:VEVENT
DTSTART:20070411T170000Z
DTEND:20070411T171500Z
X-MICROSOFT-CDO-ALLDAYEVENT:FALSE
SUMMARY:Scentsy Ribbon Cutting
DESCRIPTION:Ribbon cutting for new chamber member Scentsy will be held at the Children's Justice Center.
X-ALT-DESC;FMTTYPE=text/html:<p>Ribbon cutting for new chamber member Scentsy will be held at the Children's Justice Center.</p>
LOCATION:Childrens Justice Center 25 S 100 East Tooele\, UT 84074
UID:e.125.73
SEQUENCE:3
DTSTAMP:20260425T143258Z
URL:https://members.tooelechamber.com/events/details/scentsy-ribbon-cutting-04-11-2007-73
END:VEVENT

END:VCALENDAR
